BEGIN:VCALENDAR
VERSION:2.0
PRODID:-//Buurtvereniging de Weidegangers - ECPv6.15.20//NONSGML v1.0//EN
CALSCALE:GREGORIAN
METHOD:PUBLISH
X-WR-CALNAME:Buurtvereniging de Weidegangers
X-ORIGINAL-URL:https://weidegangers.nl
X-WR-CALDESC:Evenementen voor Buurtvereniging de Weidegangers
REFRESH-INTERVAL;VALUE=DURATION:PT1H
X-Robots-Tag:noindex
X-PUBLISHED-TTL:PT1H
BEGIN:VTIMEZONE
TZID:UTC
BEGIN:STANDARD
TZOFFSETFROM:+0000
TZOFFSETTO:+0000
TZNAME:UTC
DTSTART:20230101T000000
END:STANDARD
END:VTIMEZONE
BEGIN:VEVENT
DTSTART;TZID=UTC:20240622T190000
DTEND;TZID=UTC:20240622T235900
DTSTAMP:20260420T052608
CREATED:20240421T182637Z
LAST-MODIFIED:20240421T183554Z
UID:58-1719082800-1719100740@weidegangers.nl
SUMMARY:Schuttersdag/avond
DESCRIPTION:Voor meer informatie zie: https://gildestjan.nl/
URL:https://weidegangers.nl/event/schuttersdag-avond/
LOCATION:De Borgh\, Babberich
END:VEVENT
END:VCALENDAR