BEGIN:VCALENDAR
VERSION:2.0
PRODID:-//Buurtvereniging de Weidegangers - ECPv6.15.20//NONSGML v1.0//EN
CALSCALE:GREGORIAN
METHOD:PUBLISH
X-WR-CALNAME:Buurtvereniging de Weidegangers
X-ORIGINAL-URL:https://weidegangers.nl
X-WR-CALDESC:Evenementen voor Buurtvereniging de Weidegangers
REFRESH-INTERVAL;VALUE=DURATION:PT1H
X-Robots-Tag:noindex
X-PUBLISHED-TTL:PT1H
BEGIN:VTIMEZONE
TZID:UTC
BEGIN:STANDARD
TZOFFSETFROM:+0000
TZOFFSETTO:+0000
TZNAME:UTC
DTSTART:20230101T000000
END:STANDARD
END:VTIMEZONE
BEGIN:VEVENT
DTSTART;VALUE=DATE:20240928
DTEND;VALUE=DATE:20240930
DTSTAMP:20260420T003143
CREATED:20240421T184228Z
LAST-MODIFIED:20240421T184228Z
UID:73-1727488800-1727575199@weidegangers.nl
SUMMARY:Burendag
DESCRIPTION:Meer info volgt!
URL:https://weidegangers.nl/event/burendag/
END:VEVENT
END:VCALENDAR