BEGIN:VCALENDAR
VERSION:2.0
PRODID:-//Buurtvereniging de Weidegangers - ECPv6.15.20//NONSGML v1.0//EN
CALSCALE:GREGORIAN
METHOD:PUBLISH
X-WR-CALNAME:Buurtvereniging de Weidegangers
X-ORIGINAL-URL:https://weidegangers.nl
X-WR-CALDESC:Evenementen voor Buurtvereniging de Weidegangers
REFRESH-INTERVAL;VALUE=DURATION:PT1H
X-Robots-Tag:noindex
X-PUBLISHED-TTL:PT1H
BEGIN:VTIMEZONE
TZID:UTC
BEGIN:STANDARD
TZOFFSETFROM:+0000
TZOFFSETTO:+0000
TZNAME:UTC
DTSTART:20230101T000000
END:STANDARD
END:VTIMEZONE
BEGIN:VEVENT
DTSTART;VALUE=DATE:20240920
DTEND;VALUE=DATE:20240922
DTSTAMP:20260420T071132
CREATED:20240421T184722Z
LAST-MODIFIED:20240421T184722Z
UID:79-1726797600-1726883999@weidegangers.nl
SUMMARY:World Cleanup Day
DESCRIPTION:World Cleanup Day is de grootste jaarlijks opschoonactie ter wereld. Inmiddels doen er 180 landen mee. In Nederland is IVN Natuureducatie de organisator van World Cleanup Day. Supporter van Schoon ondersteunt World Cleanup Day. Dit jaar is World Cleanup Day op 20 september 2024.  \nhttps://www.supportervanschoon.nl/alle-aanpakken/campagnes/world-cleanup-day/
URL:https://weidegangers.nl/event/world-cleanup-day/
END:VEVENT
BEGIN:VEVENT
DTSTART;VALUE=DATE:20240928
DTEND;VALUE=DATE:20240930
DTSTAMP:20260420T071132
CREATED:20240421T184228Z
LAST-MODIFIED:20240421T184228Z
UID:73-1727488800-1727575199@weidegangers.nl
SUMMARY:Burendag
DESCRIPTION:Meer info volgt!
URL:https://weidegangers.nl/event/burendag/
END:VEVENT
BEGIN:VEVENT
DTSTART;VALUE=DATE:20250302
DTEND;VALUE=DATE:20250304
DTSTAMP:20260420T071132
CREATED:20240421T184351Z
LAST-MODIFIED:20240421T185550Z
UID:75-1740880800-1740967199@weidegangers.nl
SUMMARY:Carnaval
DESCRIPTION:
URL:https://weidegangers.nl/event/carnaval/
CATEGORIES:Buurt activiteit
END:VEVENT
BEGIN:VEVENT
DTSTART;TZID=UTC:20250614T160000
DTEND;TZID=UTC:20250614T233000
DTSTAMP:20260420T071132
CREATED:20250423T120640Z
LAST-MODIFIED:20250423T120853Z
UID:207-1749916800-1749943800@weidegangers.nl
SUMMARY:Buurt BBQ
DESCRIPTION:Save the date! Aanmelden voor de Buurt BBQ kan via het formulier; deze wordt in de buurt-app gedeeld.
URL:https://weidegangers.nl/event/buurt-bbq/
LOCATION:Speeltuin Kulturweide
CATEGORIES:Buurt activiteit
END:VEVENT
BEGIN:VEVENT
DTSTART;TZID=UTC:20250621T200000
DTEND;TZID=UTC:20250622T003000
DTSTAMP:20260420T071132
CREATED:20250423T120836Z
LAST-MODIFIED:20250423T120836Z
UID:210-1750536000-1750552200@weidegangers.nl
SUMMARY:Schuttersavond
DESCRIPTION:
URL:https://weidegangers.nl/event/schuttersavond/
LOCATION:De Borgh\, Babberich
END:VEVENT
BEGIN:VEVENT
DTSTART;VALUE=DATE:20250829
DTEND;VALUE=DATE:20250831
DTSTAMP:20260420T071132
CREATED:20250423T121006Z
LAST-MODIFIED:20250423T121338Z
UID:212-1756432800-1756519199@weidegangers.nl
SUMMARY:Contributie betalen St. Jan (ochtend)
DESCRIPTION:
URL:https://weidegangers.nl/event/contributie-betalen-ochtend/
LOCATION:De Borgh\, Babberich
CATEGORIES:Schuttersfeest
END:VEVENT
BEGIN:VEVENT
DTSTART;VALUE=DATE:20250905
DTEND;VALUE=DATE:20250907
DTSTAMP:20260420T071132
CREATED:20250423T121043Z
LAST-MODIFIED:20250423T121406Z
UID:214-1757037600-1757123999@weidegangers.nl
SUMMARY:Contributie St. Jan/tafel reserveren avond
DESCRIPTION:
URL:https://weidegangers.nl/event/contributie-generale-tafel-reserveren/
LOCATION:De Borgh\, Babberich
CATEGORIES:Schuttersfeest
END:VEVENT
BEGIN:VEVENT
DTSTART;VALUE=DATE:20250906
DTEND;VALUE=DATE:20250908
DTSTAMP:20260420T071132
CREATED:20250423T121113Z
LAST-MODIFIED:20250423T121113Z
UID:216-1757124000-1757210399@weidegangers.nl
SUMMARY:Boog zetten
DESCRIPTION:
URL:https://weidegangers.nl/event/boog-zetten/
CATEGORIES:Schuttersfeest
END:VEVENT
BEGIN:VEVENT
DTSTART;VALUE=DATE:20250907
DTEND;VALUE=DATE:20250911
DTSTAMP:20260420T071132
CREATED:20250423T121151Z
LAST-MODIFIED:20250423T121151Z
UID:218-1757210400-1757469599@weidegangers.nl
SUMMARY:Schuttersfeest
DESCRIPTION:
URL:https://weidegangers.nl/event/schuttersfeest-2/
LOCATION:De Borgh\, Babberich
CATEGORIES:Schuttersfeest
END:VEVENT
BEGIN:VEVENT
DTSTART;TZID=UTC:20251004T200000
DTEND;TZID=UTC:20251004T233000
DTSTAMP:20260420T071132
CREATED:20250423T121257Z
LAST-MODIFIED:20250423T121257Z
UID:220-1759608000-1759620600@weidegangers.nl
SUMMARY:Oktoberfest in de Borgh
DESCRIPTION:
URL:https://weidegangers.nl/event/oktoberfest-in-de-borgh/
LOCATION:De Borgh\, Babberich
END:VEVENT
END:VCALENDAR